BEGIN:VCALENDAR
VERSION:2.0
PRODID:-//Revere&#039;s Riders - ECPv6.15.14//NONSGML v1.0//EN
CALSCALE:GREGORIAN
METHOD:PUBLISH
X-WR-CALNAME:Revere&#039;s Riders
X-ORIGINAL-URL:https://www.reveresriders.org
X-WR-CALDESC:Events for Revere&#039;s Riders
REFRESH-INTERVAL;VALUE=DURATION:PT1H
X-Robots-Tag:noindex
X-PUBLISHED-TTL:PT1H
BEGIN:VTIMEZONE
TZID:America/Indiana/Indianapolis
BEGIN:DAYLIGHT
TZOFFSETFROM:-0500
TZOFFSETTO:-0400
TZNAME:EDT
DTSTART:20240310T070000
END:DAYLIGHT
BEGIN:STANDARD
TZOFFSETFROM:-0400
TZOFFSETTO:-0500
TZNAME:EST
DTSTART:20241103T060000
END:STANDARD
BEGIN:DAYLIGHT
TZOFFSETFROM:-0500
TZOFFSETTO:-0400
TZNAME:EDT
DTSTART:20250309T070000
END:DAYLIGHT
BEGIN:STANDARD
TZOFFSETFROM:-0400
TZOFFSETTO:-0500
TZNAME:EST
DTSTART:20251102T060000
END:STANDARD
BEGIN:DAYLIGHT
TZOFFSETFROM:-0500
TZOFFSETTO:-0400
TZNAME:EDT
DTSTART:20260308T070000
END:DAYLIGHT
BEGIN:STANDARD
TZOFFSETFROM:-0400
TZOFFSETTO:-0500
TZNAME:EST
DTSTART:20261101T060000
END:STANDARD
END:VTIMEZONE
BEGIN:VEVENT
DTSTART;TZID=America/Indiana/Indianapolis:20251018T080000
DTEND;TZID=America/Indiana/Indianapolis:20251019T170000
DTSTAMP:20260421T063955
CREATED:20250314T205424Z
LAST-MODIFIED:20251126T172304Z
UID:38649-1760774400-1760893200@www.reveresriders.org
SUMMARY:Intermediate Rifle (KD) – Two Day (Midvale\, OH)
DESCRIPTION:Intermediate Rifle (KD) Overview\nThis is a 2-day\, Intermediate Rifle (AKA: Known Distance or “KD”) event. The event is designed to give attendees the opportunity to stretch their skills to actual distances out to 400 yards. The “course of fire/instruction” is designed for centerfire rifles with slings.  Attendees will shoot from the standard field positions of prone\, seated/kneeling\, and standing. \nPrerequisites: Suggested — Revere’s Basic Rifle event or previous experience with CMP\, High Power or NRA rifle events. \nIf you cannot consistently hit a 5″ circle at 100 yards from the prone position\, or if you are unfamiliar with the standing/seated/prone positions and sling usage\, you will be frustrated at this event. Material from Basic Rifle will be only briefly reviewed.  \nEstimated Ammunition Required: Bring 150 to 200 rounds/day. It is important that all ammunition be of the same type (i.e. same weight\, manufacturer\, etc) for this event. \nRifle Requirements: You will need a safe rifle chambered in a centerfire caliber of your preference (we will be shooting at distances beyond the effective range of most rimfire calibers). \nPlease make an effort to get a known zero prior to attending (25 yds or 200 yds preferred\, but any known zero will work).  At the very least\, bore sight your AR-platform or bolt rifle at a mark 25 yards away.  If you are not zeroed\, we will make an attempt to get you there quickly but a good zero will facilitate your learning. \nRequired Equipment: Please review our suggestions for appropriate KD equipment and plan to bring the following: \n\ncenterfire rifle of your choice\nsling for your rifle (the US GI sling will work perfectly for this event\, but if you bring another style\, it should be easily adjustable)\nat least two magazines for your rifle\, extras will make things easier\na way to take notes\nhearing protection\neye protection\nplenty of your preferred method of hydration (both plain water and something to replace electrolytes you will lose via sweating is ideal)\,\n\nOptional Equipment: The following equipment is not required but may come in handy at the event: \n\ncase for your rifle\nhat with a brim (to deflect flying hot brass)\nshooting mat\nhigh powered binoculars or a spotting scope\nfolding chair\nlunch for both days (Note: range provides lunch for a donation on Sat)\nsnacks and energy bars\nsunscreen and/or bug spray\n\nOverview: Intermediate Rifle picks up where our Basic Rifle clinic leaves off. Students\, having mastered the fundamentals of marksmanship at our Basic Rifle\, learn to apply their skills out to 400 yards\, the Marksman’s quarter-mile. Most importantly\, attendees will learn about your rifle\, your ammo\, and your skill level at real distances. \nIntermediate Rifle is focused on practical shooting under field conditions against targets at a variety of ranges. Students will learn: \n\nField shooting to known distances out to 400 yds to include target detection\, target identification and basic ballistics calculations\nCalculations of minutes of angle (MOA) changes needed for precise sight adjustments at all ranges and application to field shooting problems\nConsiderations for wind adjustments and up-hill/down-hill shooting\nData collection for shooting to known distances with your equipment\nField-expedient ranging of targets at unknown distances\nStudents will be able to challenge the Long Range Qualification Test and other Field Shooting challenges at actual distances; individual events may vary by venue and available distances.\n\nOn Sunday afternoon\, we will move targets out to 600 yds to give folks the opportunity to really “reach out and test” their skills. \nThe Spirit of 1776\nPicking up where “The Midnight Ride” concludes\, the Spirit of 1776 contains stories from the first full year of the American war for independence. From the high point of the Evacuation of Boston to the lows of early winter of 1776\, follow the Continental Army as they are forced to flee across New York and New Jersey. Learn about the nearly insurmountable challenges they faced and the hope\, faith and daring that pulled victory out of certain defeat. \nIf you’ve ever wondered what it would be like to face down a huge amphibious armada invading New York City\, shiver around a campfire reading about “summer soldiers and sunshine patriots\,” or gamble it all on a desperate crossing of the Delaware River for “Liberty or Death” then you need to hear the Spirit of 1776. \nThses exciting tales will be woven throughout the day’s marksmanship events. \nAdditional Event Information\nThere is a $10/person range fee that is payable at the start of the event. \nAdditional Range Information\nFree camping will be available at the range on Friday and Saturday night. Participants will have access to the club house for restrooms and limited kitchen support for dinner on Saturday night.
URL:https://www.reveresriders.org/event/intermediate-rifle-kd-two-day-midvale-oh/
LOCATION:Tusco Rifle Club (Midvale\, OH)\, 2132 Midvale Mine Road SE\, Dennison\, OH\, 44621\, United States
CATEGORIES:Events in Ohio,Intermediate Rifle,Live-Fire Event
ATTACH;FMTTYPE=image/jpeg:https://www.reveresriders.org/wp-content/uploads/2018/10/featured_atterbury_rifle_qualification.jpg
ORGANIZER;CN="Steve 'Corvette' Branam":MAILTO:srb4085@reagan.com
END:VEVENT
END:VCALENDAR